BEGIN:VCALENDAR
VERSION:2.0
PRODID:-//Biotechsa - ECPv6.15.18//NONSGML v1.0//EN
CALSCALE:GREGORIAN
METHOD:PUBLISH
X-ORIGINAL-URL:https://biotechsa.com/2
X-WR-CALDESC:Eventos para Biotechsa
REFRESH-INTERVAL;VALUE=DURATION:PT1H
X-Robots-Tag:noindex
X-PUBLISHED-TTL:PT1H
BEGIN:VTIMEZONE
TZID:UTC
BEGIN:STANDARD
TZOFFSETFROM:+0000
TZOFFSETTO:+0000
TZNAME:UTC
DTSTART:20240101T000000
END:STANDARD
END:VTIMEZONE
BEGIN:VEVENT
DTSTART;TZID=UTC:20250904T080000
DTEND;TZID=UTC:20250906T170000
DTSTAMP:20260423T191244
CREATED:20250712T000146Z
LAST-MODIFIED:20250712T000318Z
UID:9724-1756972800-1757178000@biotechsa.com
SUMMARY:X Congreso Internacional de Pelvis y Acetábulo
DESCRIPTION:Visítanos en el stand #8 en el Congreso Internacional de Pelvis y Acetábulo 2025📍 4 al 6 de septiembre – Crowne Plaza Tlalnepantla \nEste 2025\, Tlalnepantla será sede de uno de los encuentros más relevantes para la ortopedia en América Latina. El Congreso Internacional de Pelvis y Acetábulo\, organizado por la Sociedad Internacional de Pelvis y Acetábulo (SIPA)\, reunirá a especialistas de todo el país para compartir experiencias\, casos clínicos y lo más actualizado en el manejo de lesiones complejas del anillo pélvico y el acetábulo. \nDurante tres días\, el programa académico ofrecerá conferencias con ponentes nacionales e internacionales\, talleres prácticos\, discusiones interactivas y sesiones centradas en técnicas mínimamente invasivas\, navegación quirúrgica y nuevos biomateriales. Todo en un ambiente diseñado para fortalecer el criterio quirúrgico de los asistentes y actualizar su práctica con herramientas basadas en evidencia. \nEste congreso es una excelente oportunidad para conectar con colegas\, aprender de experiencias reales y conocer soluciones innovadoras que están marcando la diferencia en quirófano. \nEn Biotechsa estaremos presentes en el stand #8\, compartiendo nuestras tecnologías más avanzadas para la regeneración ósea\, el tratamiento de infecciones y la artrosis. Será un gusto recibirte y conversar contigo sobre cómo podemos impulsar juntos una mejor atención médica. \nAgenda las fechas: 4\, 5 y 6 de septiembre. ¡Nos vemos en el Crowne Plaza Tlalnepantla!
URL:https://biotechsa.com/2/event/x-congreso-internacional-de-pelvis-y-acetabulo/
LOCATION:Crowne Plaza\, C. Roberto Fulton 2-A\, San Lorenzo\, Tlalnepantla\, Méx.\, CDMX\, 54030\, Mexico
ATTACH;FMTTYPE=image/webp:https://biotechsa.com/2/wp-content/uploads/2025/07/Crowne-Plaza2.webp
END:VEVENT
BEGIN:VEVENT
DTSTART;TZID=UTC:20250911T080000
DTEND;TZID=UTC:20250914T170000
DTSTAMP:20260423T191244
CREATED:20250712T001601Z
LAST-MODIFIED:20260310T190358Z
UID:9729-1757577600-1757869200@biotechsa.com
SUMMARY:XXV Congreso AMCICO
DESCRIPTION:Visítanos en el stand #6 del XXV Congreso AMCICO 2025📍 11 al 14 de septiembre – Hotel Hilton Cancún \nEl Hotel Hilton Cancún será sede del XXV Congreso Anual de la Asociación Mexicana de Cirujanos de Columna (AMCICO)\, uno de los eventos más destacados para especialistas en cirugía de columna\, neurocirujanos y equipos multidisciplinarios del sector. \nDurante estos cuatro días\, se abordarán temas críticos como técnicas mínimamente invasivas\, neurología y neurofisiología\, navegación quirúrgica\, y tratamientos de vanguardia para patologías complejas de la columna . También habrá espacio para la presentación de trabajos libres\, conferencias magistrales y talleres prácticos\, lo que convierte este congreso en una experiencia formativa única. \nEn Biotechsa\, estamos emocionados de estar presentes en el stand #6\, donde presentaremos nuestras soluciones innovadoras para regeneración ósea\, control de infecciones y manejo de artrosis. Será una excelente oportunidad para platicar contigo sobre cómo podemos apoyar tu práctica médica con tecnología basada en evidencia. \nSi estás comprometido con la excelencia clínica y la evaluación constante de nuevas herramientas\, no puedes faltar. ¡Reserva estos días en tu agenda y visítanos del 11 al 14 de septiembre en el Hotel Hilton Cancún!
URL:https://biotechsa.com/2/event/xxv-congreso-amcico/
LOCATION:Hotel Hilton Cancún\, Carr Federal Libre 307 Cancun-Tulum Km 248-868\, SM-36\, LT-1-01 UPE-1E\, Cancun\, Q.R.\, Cancún\, Quintana Roo\, 77580\, Mexico
ATTACH;FMTTYPE=image/webp:https://biotechsa.com/2/wp-content/uploads/2025/07/Hotel-Hilton-CC.webp
END:VEVENT
BEGIN:VEVENT
DTSTART;TZID=UTC:20250924T080000
DTEND;TZID=UTC:20250927T170000
DTSTAMP:20260423T191244
CREATED:20250712T002441Z
LAST-MODIFIED:20250712T002441Z
UID:9734-1758700800-1758992400@biotechsa.com
SUMMARY:XIX Congreso Internacional AMCICHAC 2025
DESCRIPTION:¡Te esperamos en el stand #18 del XIX Congreso Internacional AMCICHAC 2025!📍 24 al 27 de septiembre – Poliforum León\, Guanajuato \nEste año\, León se convierte en el punto de encuentro más importante para todos los profesionales dedicados al cuidado de heridas. El XIX Congreso Internacional de AMCICHAC reunirá a médicos\, enfermeras\, terapeutas\, podólogos y especialistas comprometidos con mejorar la calidad de vida de los pacientes a través de una atención basada en evidencia\, experiencia clínica y tecnología innovadora. \nSerá una gran oportunidad para actualizarte\, compartir ideas con colegas de todo el país y descubrir herramientas que pueden marcar una diferencia real en tu práctica diaria. \n¿Por qué no puedes faltar?\n\n\nEscucharás a ponentes nacionales e internacionales con amplia experiencia en heridas complejas. \n\n\nPodrás participar en talleres prácticos sobre técnicas de cicatrización\, cuidado avanzado de ostomías\, manejo de infecciones\, y más. \n\n\nTendrás acceso a simposios especializados\, con los temas más actuales en terapia de heridas\, presión negativa\, biofilms y nuevas tecnologías. \n\n\nVerás casos clínicos reales que te permitirán aplicar lo aprendido directamente en tus pacientes. \n\n\nConocerás las últimas innovaciones en productos y dispositivos para el tratamiento integral de heridas. \n\n\nEn Biotechsa estaremos presentes en el stand #18\, listos para mostrarte nuestras soluciones más avanzadas en regeneración ósea\, terapias complementarias y tecnologías de soporte que pueden complementar tu abordaje clínico en heridas difíciles. Será un gusto saludarte\, responder tus preguntas y colaborar contigo. \nDel 24 al 27 de septiembre\, nos vemos en el Poliforum León. ¡Estás cordialmente invitado!
URL:https://biotechsa.com/2/event/xix-congreso-internacional-amcichac-2025/
LOCATION:Poliforum León\, Blvd. Adolfo López Mateos esquina Boulevard Francisco Villa s/n\, Oriental\, León de los Aldama\, Gto.\, Guanajuato\, Guanajuato\, 37510\, Mexico
ATTACH;FMTTYPE=image/webp:https://biotechsa.com/2/wp-content/uploads/2025/07/Poliforum-Gto.webp
END:VEVENT
END:VCALENDAR