BEGIN:VCALENDAR
VERSION:2.0
PRODID:-//Biotechsa - ECPv6.15.18//NONSGML v1.0//EN
CALSCALE:GREGORIAN
METHOD:PUBLISH
X-ORIGINAL-URL:https://biotechsa.com/2
X-WR-CALDESC:Eventos para Biotechsa
REFRESH-INTERVAL;VALUE=DURATION:PT1H
X-Robots-Tag:noindex
X-PUBLISHED-TTL:PT1H
BEGIN:VTIMEZONE
TZID:UTC
BEGIN:STANDARD
TZOFFSETFROM:+0000
TZOFFSETTO:+0000
TZNAME:UTC
DTSTART:20240101T000000
END:STANDARD
END:VTIMEZONE
BEGIN:VEVENT
DTSTART;TZID=UTC:20250212T080000
DTEND;TZID=UTC:20250215T170000
DTSTAMP:20260424T061127
CREATED:20241205T234417Z
LAST-MODIFIED:20241205T234417Z
UID:8158-1739347200-1739638800@biotechsa.com
SUMMARY:¡Te esperamos en el XXV Congreso Internacional de la SMCC!
DESCRIPTION:¿Por qué visitarnos en el XXV Congreso Internacional de la SMCC?\nNos emociona participar en la XXV Reunión Internacional de la Sociedad Mexicana de Cirugía de la Cadera (SMCC)\, un evento de gran relevancia para los profesionales de la salud especializados en cirugía de cadera\, que tendrá lugar del 12 al 15 de febrero de 2025. Estaremos en el stand #10 del Centro de Congresos de Querétaro. \n¿Por qué no puedes faltar? \n\nTendrás la oportunidad de conocer en detalle cómo nuestros productos pueden integrarse a tus tratamientos y mejorar los resultados en tus pacientes.\nPodrás resolver tus dudas directamente con nuestros expertos y descubrir casos clínicos exitosos.\nEste evento reúne a los principales especialistas en cirugía de cadera\, lo que lo convierte en un espacio único para actualizarte\, intercambiar experiencias y fortalecer tu red profesional.\n\nVisítanos en nuestro stand para explorar las innovaciones que transforman la práctica médica y llevan la atención al paciente a un nuevo nivel. ¡Estamos aquí para apoyarte a lograr mejores resultados clínicos! \n¡Te esperamos! \nPara más información sobre el evento\, accede al enlace: https://smcc.com.mx/congreso-xxv/
URL:https://biotechsa.com/2/event/te-esperamos-en-el-xxv-congreso-internacional-de-la-smcc/
LOCATION:Centro de Congresos de Querétaro\, B Josefa Vergara y Hernandez\, Av. de las Artes\, Paseo de las Artes 1531\, 76090 Santiago de Querétaro\, Querétaro\, Querétaro\, 76090\, Mexico
ATTACH;FMTTYPE=image/png:https://biotechsa.com/2/wp-content/uploads/2024/12/Centro-de-convenciones-de-Queretaro.png
END:VEVENT
END:VCALENDAR