BEGIN:VCALENDAR
VERSION:2.0
PRODID:-//Biotechsa - ECPv6.15.18//NONSGML v1.0//EN
CALSCALE:GREGORIAN
METHOD:PUBLISH
X-ORIGINAL-URL:https://biotechsa.com/2
X-WR-CALDESC:Eventos para Biotechsa
REFRESH-INTERVAL;VALUE=DURATION:PT1H
X-Robots-Tag:noindex
X-PUBLISHED-TTL:PT1H
BEGIN:VTIMEZONE
TZID:UTC
BEGIN:STANDARD
TZOFFSETFROM:+0000
TZOFFSETTO:+0000
TZNAME:UTC
DTSTART:20230101T000000
END:STANDARD
END:VTIMEZONE
BEGIN:VEVENT
DTSTART;TZID=UTC:20241115T080000
DTEND;TZID=UTC:20241118T170000
DTSTAMP:20260424T221727
CREATED:20240906T032017Z
LAST-MODIFIED:20240910T002532Z
UID:7841-1731657600-1731949200@biotechsa.com
SUMMARY:XXXVIII Congreso Nacional de la Sociedad Mexicana de Ortopedia Pediátrica
DESCRIPTION:¡Estaremos en el stand #18 del Congreso Nacional de la Sociedad Mexicana de Ortopedia Pediátrica!\n¡Te esperamos en el Congreso Nacional de la Sociedad Mexicana de Ortopedia Pediátrica! Este prestigioso evento reúne a especialistas\, académicos y profesionales de la salud dedicados a la ortopedia infantil en un espacio único para el intercambio de conocimientos\, experiencias y avances en el campo. Durante el congreso\, se ofrecerán conferencias magistrales\, talleres prácticos y sesiones interactivas dirigidas por expertos nacionales e internacionales\, abordando temas actuales y desafíos en el tratamiento de trastornos ortopédicos en niños. \nLos asistentes tendrán la oportunidad de actualizar sus conocimientos sobre técnicas innovadoras\, discutir casos clínicos complejos y explorar las últimas investigaciones y tecnologías en ortopedia pediátrica. Además\, el congreso promoverá la colaboración interdisciplinaria y el networking entre los participantes\, creando un entorno propicio para el desarrollo profesional y la mejora continua en el cuidado de la salud infantil. \nNo te pierdas esta oportunidad de formar parte de un evento de alta calidad y contribuir al avance de la ortopedia pediátrica en México. ¡Te esperamos para compartir\, aprender y crecer juntos en el Congreso Nacional de la Sociedad Mexicana de Ortopedia Pediátrica! \nPara más información e inscripción: https://smopmx.com/index.php/congreso-xxxv-cancun
URL:https://biotechsa.com/2/event/xxxviii-congreso-nacional-de-la-sociedad-mexicana-de-ortopedia-pediatrica/
LOCATION:Hotel Misión Grand Juriquilla\, Blvd. Villas del Meson 56\, Juriquilla\, Querétaro\, Querétaro\, 76226
ATTACH;FMTTYPE=image/jpeg:https://biotechsa.com/2/wp-content/uploads/2024/09/Juriquilla-Congreso-SMOP.jpg
END:VEVENT
END:VCALENDAR