BEGIN:VCALENDAR
VERSION:2.0
PRODID:-//Biotechsa - ECPv6.15.18//NONSGML v1.0//EN
CALSCALE:GREGORIAN
METHOD:PUBLISH
X-WR-CALNAME:Biotechsa
X-ORIGINAL-URL:https://biotechsa.com/2
X-WR-CALDESC:Eventos para Biotechsa
REFRESH-INTERVAL;VALUE=DURATION:PT1H
X-Robots-Tag:noindex
X-PUBLISHED-TTL:PT1H
BEGIN:VTIMEZONE
TZID:America/Monterrey
BEGIN:STANDARD
TZOFFSETFROM:-0600
TZOFFSETTO:-0600
TZNAME:CST
DTSTART:20250101T000000
END:STANDARD
END:VTIMEZONE
BEGIN:VEVENT
DTSTART;TZID=America/Monterrey:20260429T080000
DTEND;TZID=America/Monterrey:20260503T170000
DTSTAMP:20260423T114134
CREATED:20260106T181542Z
LAST-MODIFIED:20260319T234112Z
UID:10533-1777449600-1777827600@biotechsa.com
SUMMARY:LXXI Congreso Nacional de Ortopedia CMO
DESCRIPTION:Un año más el Colegio Mexicano de Ortopedia y Traumatología AC será anfitrión de uno de los encuentros académicos más relevantes para la comunidad de ortopedistas y traumatólogos del país\, la LXXI edición del Congreso Nacional de Ortopedia CMO.\n\nEn esta ocasión tendrá como sede uno de los recintos más emblemáticos\, el World Trade Center (WTC) en Ciudad de México\, un espacio que reunirá a especialistas\, investigadores y líderes de opinión nacionales e internacionales\, en torno a los avances que están marcando el rumbo de la ortopedia y traumatología moderna.\n\nEl congreso CMO se caracteriza por ser un punto de encuentro donde la ciencia\, innovación y experiencia clínica convergen\, fortaleciendo la práctica médica y fomentando el intercambio de conocimientos.\n\n¿Qué te espera al ser parte de este congreso? \n\nActualización en técnicas quirúrgicas y su impacto en resultados quirúrgicos\nTalleres interactivos y cursos prácticos\nAnálisis académico de casos clínicos\nConferencias y simposios especializados\nEspacios dedicados a la educación médica continua\nExposición técnico – comercial\n\nVisítanos en nuestro stand #83\, donde te presentaremos soluciones clínicas con amplio respaldo científico\, diseñadas para apoyar tu práctica diaria y contribuir a mejores resultados clínicos en tus pacientes. \n🗓️ 29 de abril – 03 de mayo\n📍 World Trade Center\, CDMX\n\nAutor de la foto WTC: Picasa
URL:https://biotechsa.com/2/event/lxxi-congreso-ortopedia-cmo/
LOCATION:World Trade Center CDMX\, Montecito 38\, Colonia Nápoles\, Alcaldía Benito Juárez\, CDMX\, CDMX\, 03810\, Mexico
ATTACH;FMTTYPE=image/jpeg:https://biotechsa.com/2/wp-content/uploads/2026/01/WTC_Ciudad_De_Mexico.jpg
END:VEVENT
END:VCALENDAR