BEGIN:VCALENDAR
VERSION:2.0
PRODID:-//Biotechsa - ECPv6.15.18//NONSGML v1.0//EN
CALSCALE:GREGORIAN
METHOD:PUBLISH
X-ORIGINAL-URL:https://biotechsa.com/2
X-WR-CALDESC:Eventos para Biotechsa
REFRESH-INTERVAL;VALUE=DURATION:PT1H
X-Robots-Tag:noindex
X-PUBLISHED-TTL:PT1H
BEGIN:VTIMEZONE
TZID:UTC
BEGIN:STANDARD
TZOFFSETFROM:+0000
TZOFFSETTO:+0000
TZNAME:UTC
DTSTART:20230101T000000
END:STANDARD
END:VTIMEZONE
BEGIN:VEVENT
DTSTART;TZID=UTC:20241124T080000
DTEND;TZID=UTC:20241129T170000
DTSTAMP:20260424T205918
CREATED:20240906T003652Z
LAST-MODIFIED:20241127T223934Z
UID:7829-1732435200-1732899600@biotechsa.com
SUMMARY:XLVIII Congreso Nacional de Cirugía General
DESCRIPTION:¡Estaremos en el stand #16 del Congreso AMCG XLVIII 2024!\nEste evento anual\, organizado por la Asociación Mexicana de Cirugía General (AMCG)\, se llevará a cabo del 24 al 29 de octubre de 2024 en Acapulco\, Guerrero. El congreso reunirá a profesionales de la cirugía general de toda la República Mexicana y de otras partes del mundo para compartir conocimientos\, avances y experiencias en el campo de la cirugía. \nDurante seis días\, los asistentes tendrán la oportunidad de participar en conferencias magistrales\, talleres prácticos y mesas redondas lideradas por expertos de renombre. El programa está diseñado para abordar los temas más actuales y relevantes en cirugía general\, incluyendo nuevas técnicas quirúrgicas\, avances tecnológicos y mejoras en el cuidado del paciente. \nAdemás de las sesiones académicas\, el Congreso AMCG 2024 contará con una exposición de productos y servicios relacionados con la cirugía\, ofreciendo a los participantes la posibilidad de conocer las últimas innovaciones del sector. \nNo te pierdas la oportunidad de conectar con colegas\, aprender de los mejores y avanzar en tu carrera profesional. ¡Te esperamos en el Congreso AMCG 2024 para una experiencia educativa y enriquecedora! \nPara más información y registro pueden visitar la página del congreso: congresoamcg2024.mx.
URL:https://biotechsa.com/2/event/xlviii-congreso-nacional-de-cirugia-general/
LOCATION:Hotel Palacio Mundo Imperial Acapulco\, Plan de Los Amates\, Blvrd Barra Vieja 3\, Acapulco\, Guerrero\, 39890\, Mexico
ATTACH;FMTTYPE=image/jpeg:https://biotechsa.com/2/wp-content/uploads/2024/09/Congreso-Nacional-de-Cirugia-General.jpg
END:VEVENT
END:VCALENDAR