BEGIN:VCALENDAR
VERSION:2.0
PRODID:-//Biotechsa - ECPv6.15.18//NONSGML v1.0//EN
CALSCALE:GREGORIAN
METHOD:PUBLISH
X-ORIGINAL-URL:https://biotechsa.com/2
X-WR-CALDESC:Eventos para Biotechsa
REFRESH-INTERVAL;VALUE=DURATION:PT1H
X-Robots-Tag:noindex
X-PUBLISHED-TTL:PT1H
BEGIN:VTIMEZONE
TZID:America/Monterrey
BEGIN:STANDARD
TZOFFSETFROM:-0600
TZOFFSETTO:-0600
TZNAME:CST
DTSTART:20250101T000000
END:STANDARD
END:VTIMEZONE
BEGIN:VEVENT
DTSTART;TZID=America/Monterrey:20260603T080000
DTEND;TZID=America/Monterrey:20260606T170000
DTSTAMP:20260423T160225
CREATED:20260106T182224Z
LAST-MODIFIED:20260320T000043Z
UID:10540-1780473600-1780765200@biotechsa.com
SUMMARY:XXX Congreso AMECRA 2026
DESCRIPTION:Del 3 al 6 de junio Expo Guadalajara será el punto de encuentro de ortopedistas\, fisioterapeutas\, enfermeras\, kinesiólogos\, residentes y médicos en general en uno de los congresos más relevantes en reconstrucción articular y artroscopia. \nEl Congreso AMECRA se distingue por promover el intercambio científico nacional e internacional\, consolidándose como un espacio académico\, donde la experiencia clínica\, la innovación tecnológica y la educación médica se unen para fortalecer la práctica diaria. \nA través de un programa de vanguardia\, el congreso ofrecerá un entorno de aprendizaje y colaboración que permitirá a los asistentes actualizarse y compartir conocimientos en áreas clave de la especialidad. \n¿Qué encontrarás en la XXX edición de AMECRA?  \n\nAnálisis académico de casos clínicos complejos\nTalleres de alto nivel diseñados para el desarrollo de habilidades prácticas\nActualización en técnicas quirúrgicas y nuevas tecnologías robóticas\nEspacios de networking que fomentan la colaboración entre especialistas nacionales e internacionales\nPresentación de investigaciones orientadas a mejorar la atención de pacientes\nExposición de soluciones que acompañen que complementen la práctica médica\n\n  \n¡Te esperamos en el stand # 53!  \nEn Biotechsa estaremos presentes en el stand #53 donde te presentaremos soluciones clínicas que complementan el abordaje en el tratamiento de la osteoartrosis y contribuyen a mejorarla movilidad y calidad de vida de los pacientes.
URL:https://biotechsa.com/2/event/xxx-congreso-amecra-2026/
LOCATION:Expo Guadalajara\, Av. Mariano Otero 1499\, Verde Valle\, Guadalajara\, Jalisco\, 44550\, Mexico
ATTACH;FMTTYPE=image/jpeg:https://biotechsa.com/2/wp-content/uploads/2025/02/FEMECOT-EXPO-GUADALAJARA.jpg
END:VEVENT
END:VCALENDAR