BEGIN:VCALENDAR
VERSION:2.0
PRODID:-//Biotechsa - ECPv6.15.18//NONSGML v1.0//EN
CALSCALE:GREGORIAN
METHOD:PUBLISH
X-WR-CALNAME:Biotechsa
X-ORIGINAL-URL:https://biotechsa.com/2
X-WR-CALDESC:Eventos para Biotechsa
REFRESH-INTERVAL;VALUE=DURATION:PT1H
X-Robots-Tag:noindex
X-PUBLISHED-TTL:PT1H
BEGIN:VTIMEZONE
TZID:America/Monterrey
BEGIN:STANDARD
TZOFFSETFROM:-0600
TZOFFSETTO:-0600
TZNAME:CST
DTSTART:20250101T000000
END:STANDARD
END:VTIMEZONE
BEGIN:VEVENT
DTSTART;TZID=America/Monterrey:20261025T080000
DTEND;TZID=America/Monterrey:20261030T170000
DTSTAMP:20260423T190401
CREATED:20260109T181338Z
LAST-MODIFIED:20260327T180842Z
UID:10569-1792915200-1793379600@biotechsa.com
SUMMARY:L Congreso Internacional de Cirugía General
DESCRIPTION:¡La 50a edición del Congreso Internacional de Cirugía General llegará a Veracruz! \nLa Asociación Mexicana de Cirugía General reunirá a cirujanos generales y residentes de la especialidad en el WTC Veracruz para llevar a cabo uno de los encuentros académicos más relevantes del gremio\, con un programa que integra actualización teórica\, análisis clínico y práctica interactiva. \nEste congreso incluirá conferencias magistrales impartidas por profesores nacionales e internacionales\, consolidándose como un espacio clave para fortalecer conocimientos\, perfeccionar habilidades quirúrgicas y mantenerse a la vanguardia con los avances que están transformando la cirugía general. \n\n\n¿Qué podrás llevarte de esta experiencia?\n\n\nTalleres interactivos alineados con las actualizaciones en cirugía general.\nAnálisis y revisión de casos clínicos\, abordados desde diferentes perspectivas.\nPaneles especializados con enfoque práctico y acadeémico.\nOportunidad de networking con otros líderes de la especialidad.\n\n\n\n¿Qué podrás llevarte de esta experiencia?\n\n\nTalleres interactivos alineados con las actualizaciones en cirugía general.\nAnálisis y revisión de casos clínicos\, abordados desde diferentes perspectivas.\nPaneles especializados con enfoque práctico y académico.\nOportunidad de networking con otros líderes de la especialidad.\n\n\n¿Por qué visitar nuestro stand? \n\nNos encontrarás en el área comercial en el stand #32\, donde podrás:\n\n\nConocer demostraciones en vivo de STIMULAN y su alcance clínico.\nAcceder a promociones exclusivas del Congreso.\nParticipar en rifas y dinámicas especiales.\n\n\nSerá un gusto recibirte y atender todas tus dudas sobre STIMULAN\, el único transportador de antibiótico aprobado para uso en huesos y tejidos blandos. ¡Nos vemos en Veracruz!
URL:https://biotechsa.com/2/event/l-congreso-internacional-de-cirugia-general/
LOCATION:WTC Veracruz\, Boulevard Adolfo Ruiz Cortines No. 3497 Col. Ylang Ylang. Boca del Río\, Veracruz\, Boca del Río\, Veracruz\, 94298\, Mexico
ATTACH;FMTTYPE=image/jpeg:https://biotechsa.com/2/wp-content/uploads/2026/01/Veracruz.jpg
END:VEVENT
END:VCALENDAR