BEGIN:VCALENDAR
VERSION:2.0
PRODID:-//Biotechsa - ECPv6.15.18//NONSGML v1.0//EN
CALSCALE:GREGORIAN
METHOD:PUBLISH
X-WR-CALNAME:Biotechsa
X-ORIGINAL-URL:https://biotechsa.com/2
X-WR-CALDESC:Eventos para Biotechsa
REFRESH-INTERVAL;VALUE=DURATION:PT1H
X-Robots-Tag:noindex
X-PUBLISHED-TTL:PT1H
BEGIN:VTIMEZONE
TZID:America/Monterrey
BEGIN:STANDARD
TZOFFSETFROM:-0600
TZOFFSETTO:-0600
TZNAME:CST
DTSTART:20250101T000000
END:STANDARD
END:VTIMEZONE
BEGIN:VEVENT
DTSTART;TZID=America/Monterrey:20260902T080000
DTEND;TZID=America/Monterrey:20260905T170000
DTSTAMP:20260423T155732
CREATED:20260106T185146Z
LAST-MODIFIED:20260320T000137Z
UID:10546-1788336000-1788627600@biotechsa.com
SUMMARY:XX Congreso Internacional AMCICHAC 2026
DESCRIPTION:¿Quieres conocer las técnicas más actualizadas para el manejo integral de heridas complejas?\n¡Te esperamos en el stand # del XX Congreso Internacional AMCICHAC 2026!\n📍 02 al 05 de septiembre – WTC CDMX\n\nEn su vigésima edición\, el Congreso Internacional de AMCICHAC se consolida como el foro académico y científico más relevante para los médicos especialistas en el cuidado integral de heridas.\n​\n\nEn su vigésima edición\, el Congreso Internacional de AMCICHAC se consolida como el foro académico y científico más relevante para los médicos especialistas en el cuidado integral de heridas.\n​\nEl World Trade Center de la Ciudad de México será el epicentro de innovación\, educación médica continua y convivencia académica\, reuniendo a expertos clínicos y líderes de opinión de renombre internacional en el manejo de heridas complejas.\n​\nEsta edición se distinguirá por ofrecer una experiencia de aprendizaje inmersiva\, diseñada para fortalecer la toma de decisiones clínicas y actualizar el abordaje terapéutico mediante:\n​\n\nTalleres prácticos\nSimposios especializados\nMesas redondas de análisis clínico\nConferencias magistrales\nActividades académicas interactivas\n\n\n​\n\nAl formar parte de este Congreso podrás:\n​\n\nActualizarte en nuevas técnicas y estrategias para optimizar el manejo integral de heridas complejas.\nAprender directamente de especialistas internacionales\, referentes en investigación y práctica clínica.\nAnalizar casos clínicos reales\, enriqueciendo el abordaje terapéutico a través del intercambio de experiencias médicas.\nDesarrollar nuevas destrezas y habilidades clínicas\, con impacto directo en la evolución y calidad de vida de tus pacientes.\n\nUn año más\, estaremos presentes el stand #34\, listos para presentarte soluciones basadas en evidencia científica que fortalecen el abordaje médico en heridas de alta complejidad. Será un gusto recibirte y atender todas tus dudas. \n\nFotografía WTC: Vive Nápoles
URL:https://biotechsa.com/2/event/xx-congreso-internacional-amcichac-2026/
LOCATION:World Trade Center CDMX\, Montecito 38\, Colonia Nápoles\, Alcaldía Benito Juárez\, CDMX\, CDMX\, 03810\, Mexico
ATTACH;FMTTYPE=image/jpeg:https://biotechsa.com/2/wp-content/uploads/2026/01/imagenes-construccion-wtc-7.jpg
END:VEVENT
END:VCALENDAR