BEGIN:VCALENDAR
VERSION:2.0
PRODID:-//Biotechsa - ECPv6.15.18//NONSGML v1.0//EN
CALSCALE:GREGORIAN
METHOD:PUBLISH
X-WR-CALNAME:Biotechsa
X-ORIGINAL-URL:https://biotechsa.com/2
X-WR-CALDESC:Eventos para Biotechsa
REFRESH-INTERVAL;VALUE=DURATION:PT1H
X-Robots-Tag:noindex
X-PUBLISHED-TTL:PT1H
BEGIN:VTIMEZONE
TZID:America/Monterrey
BEGIN:STANDARD
TZOFFSETFROM:-0600
TZOFFSETTO:-0600
TZNAME:CST
DTSTART:20250101T000000
END:STANDARD
END:VTIMEZONE
BEGIN:VEVENT
DTSTART;TZID=America/Monterrey:20260827T080000
DTEND;TZID=America/Monterrey:20260829T170000
DTSTAMP:20260423T155734
CREATED:20260319T235958Z
LAST-MODIFIED:20260327T180518Z
UID:238342-1787817600-1788022800@biotechsa.com
SUMMARY:XI Congreso Internacional de Pelvis y Acetábulo
DESCRIPTION:Nos es grato anunciar que formaremos parte del XI Congreso Internacional de Pelvis y Acetábulo\, organizado por la SIPA. \nEn esta edición\, especialistas nacionales e internacionales se reunirán en el Hotel Royal Pedregal\, al sur de la Ciudad de México\, en un espacio diseñado para el intercambio académico\, la actualización clínica y el fortalecimiento de la comunidad médica. \nA través de un programa enfocado en pelvis y acetábulo\, el congreso promoverá el análisis de casos\, la discusión de abordajes quirúrgicos y el intercambio de experiencias entre expertos. \n¡Visítanos en el stand #5! \nTe esperamos en la sección comercial\, donde nuestros asesores te brindarán información sobre nuestras soluciones médicas\, diseñadas para fortalecer tus procedimientos quirúrgicos y apoyar la toma de decisiones clínicas.\n\nSerá un gusto saludarte.
URL:https://biotechsa.com/2/event/xi-congreso-internacional-de-pelvis-y-acetabulo/
LOCATION:Hotel Royal Pedregal\, Anillo Periférico (Blvd Adolfo Ruiz Cortines) 4363 Col. Jardines En La Montaña Deleg\, Pico de Tolima S/N\, Jardines en la Montaña\, Tlalpan\, CDMX\, Ciudad de México\, 14210\, Mexico
ATTACH;FMTTYPE=image/jpeg:https://biotechsa.com/2/wp-content/uploads/2026/03/Hotel-Royal.jpg
END:VEVENT
END:VCALENDAR