BEGIN:VCALENDAR
VERSION:2.0
PRODID:-//Biotechsa - ECPv6.15.18//NONSGML v1.0//EN
CALSCALE:GREGORIAN
METHOD:PUBLISH
X-ORIGINAL-URL:https://biotechsa.com/2
X-WR-CALDESC:Eventos para Biotechsa
REFRESH-INTERVAL;VALUE=DURATION:PT1H
X-Robots-Tag:noindex
X-PUBLISHED-TTL:PT1H
BEGIN:VTIMEZONE
TZID:America/Monterrey
BEGIN:STANDARD
TZOFFSETFROM:-0600
TZOFFSETTO:-0600
TZNAME:CST
DTSTART:20250101T000000
END:STANDARD
END:VTIMEZONE
BEGIN:VEVENT
DTSTART;TZID=America/Monterrey:20260521T080000
DTEND;TZID=America/Monterrey:20260523T170000
DTSTAMP:20260423T113712
CREATED:20260319T234012Z
LAST-MODIFIED:20260327T175528Z
UID:238332-1779350400-1779555600@biotechsa.com
SUMMARY:V Encuentro de la Región Occidente FEMECOT
DESCRIPTION:¡Una nueva edición de FEMECOT Región Occidente está de vuelta! \nEn esta ocasión el Hotel Grand Catalagua será el punto de encuentro para especialistas que buscan fortalecer sus habilidades y actualizar sus conocimientos en ortopedia. \nBajo el tema ‘Errores que enseñan: Casos complicados de ortopedia’\, expertos nacionales e internacionales compartirán casos clínicos que han marcado su trayectoria\, así como los abordajes implementados en situaciones desafiantes. \n¿Qué esperar de este encuentro?  \n\nIntercambio de conocimientos clínicos\nAnálisis de casos complejos\nFortalecimiento de habilidades quirúrgicas\nEspacios de networking con otros especialistas\n\n¡Te esperamos en el stand #20!  \nNuestro equipo estará presente en la sección comercial\, donde podrás conocer nuestras soluciones diseñadas para fortalecer tu práctica ortopédica y resolver cualquier duda con nuestros especialistas. \n¡Será un gusto recibirte!
URL:https://biotechsa.com/2/event/v-encuentro-de-la-region-occidente-femecot/
LOCATION:Hotel Grand Catalagua\, Av. Ventura Puente Esq. Av Carmelinas Col. Felix Ireta\, Morelia\, MI\, Morelia\, Michoacán\, 58070\, Mexico
ATTACH;FMTTYPE=image/jpeg:https://biotechsa.com/2/wp-content/uploads/2026/03/Hotel-Grand.jpg
END:VEVENT
END:VCALENDAR