BEGIN:VCALENDAR
VERSION:2.0
PRODID:-//Biotechsa - ECPv6.15.18//NONSGML v1.0//EN
CALSCALE:GREGORIAN
METHOD:PUBLISH
X-WR-CALNAME:Biotechsa
X-ORIGINAL-URL:https://biotechsa.com/2
X-WR-CALDESC:Eventos para Biotechsa
REFRESH-INTERVAL;VALUE=DURATION:PT1H
X-Robots-Tag:noindex
X-PUBLISHED-TTL:PT1H
BEGIN:VTIMEZONE
TZID:UTC
BEGIN:STANDARD
TZOFFSETFROM:+0000
TZOFFSETTO:+0000
TZNAME:UTC
DTSTART:20240101T000000
END:STANDARD
END:VTIMEZONE
BEGIN:VEVENT
DTSTART;TZID=UTC:20250911T080000
DTEND;TZID=UTC:20250914T170000
DTSTAMP:20260423T204102
CREATED:20250712T001601Z
LAST-MODIFIED:20260310T190358Z
UID:9729-1757577600-1757869200@biotechsa.com
SUMMARY:XXV Congreso AMCICO
DESCRIPTION:Visítanos en el stand #6 del XXV Congreso AMCICO 2025📍 11 al 14 de septiembre – Hotel Hilton Cancún \nEl Hotel Hilton Cancún será sede del XXV Congreso Anual de la Asociación Mexicana de Cirujanos de Columna (AMCICO)\, uno de los eventos más destacados para especialistas en cirugía de columna\, neurocirujanos y equipos multidisciplinarios del sector. \nDurante estos cuatro días\, se abordarán temas críticos como técnicas mínimamente invasivas\, neurología y neurofisiología\, navegación quirúrgica\, y tratamientos de vanguardia para patologías complejas de la columna . También habrá espacio para la presentación de trabajos libres\, conferencias magistrales y talleres prácticos\, lo que convierte este congreso en una experiencia formativa única. \nEn Biotechsa\, estamos emocionados de estar presentes en el stand #6\, donde presentaremos nuestras soluciones innovadoras para regeneración ósea\, control de infecciones y manejo de artrosis. Será una excelente oportunidad para platicar contigo sobre cómo podemos apoyar tu práctica médica con tecnología basada en evidencia. \nSi estás comprometido con la excelencia clínica y la evaluación constante de nuevas herramientas\, no puedes faltar. ¡Reserva estos días en tu agenda y visítanos del 11 al 14 de septiembre en el Hotel Hilton Cancún!
URL:https://biotechsa.com/2/event/xxv-congreso-amcico/
LOCATION:Hotel Hilton Cancún\, Carr Federal Libre 307 Cancun-Tulum Km 248-868\, SM-36\, LT-1-01 UPE-1E\, Cancun\, Q.R.\, Cancún\, Quintana Roo\, 77580\, Mexico
ATTACH;FMTTYPE=image/webp:https://biotechsa.com/2/wp-content/uploads/2025/07/Hotel-Hilton-CC.webp
END:VEVENT
END:VCALENDAR