BEGIN:VCALENDAR
VERSION:2.0
PRODID:-//Biotechsa - ECPv6.15.18//NONSGML v1.0//EN
CALSCALE:GREGORIAN
METHOD:PUBLISH
X-WR-CALNAME:Biotechsa
X-ORIGINAL-URL:https://biotechsa.com/2
X-WR-CALDESC:Eventos para Biotechsa
REFRESH-INTERVAL;VALUE=DURATION:PT1H
X-Robots-Tag:noindex
X-PUBLISHED-TTL:PT1H
BEGIN:VTIMEZONE
TZID:UTC
BEGIN:STANDARD
TZOFFSETFROM:+0000
TZOFFSETTO:+0000
TZNAME:UTC
DTSTART:20240101T000000
END:STANDARD
END:VTIMEZONE
BEGIN:VEVENT
DTSTART;TZID=UTC:20250724T080000
DTEND;TZID=UTC:20250726T170000
DTSTAMP:20260423T235529
CREATED:20250227T060335Z
LAST-MODIFIED:20250227T061933Z
UID:9277-1753344000-1753549200@biotechsa.com
SUMMARY:Cirugía de Columna Vertebral de los Fundamentos a la Innovación
DESCRIPTION:La cirugía de columna vertebral es uno de los campos más desafiantes y dinámicos dentro de la ortopedia y la neurocirugía. Con el envejecimiento de la población\, el aumento de enfermedades degenerativas y la necesidad de procedimientos menos invasivos\, el dominio de nuevas técnicas y tecnologías es esencial para brindar una atención óptima a los pacientes. \nEste evento ofrece un recorrido completo desde los principios fundamentales de la cirugía de columna hasta las soluciones más innovadoras\, permitiendo a los especialistas perfeccionar sus conocimientos y habilidades en un entorno de alto nivel académico. \nEl impacto de la innovación en la cirugía de columna\nEn las últimas décadas\, la cirugía de columna ha experimentado avances significativos que han transformado la práctica médica. Este encuentro abordará los temas más relevantes\, incluyendo: \n🔹 Cirugía mínimamente invasiva: Procedimientos que reducen el trauma quirúrgico\, mejoran la recuperación del paciente y disminuyen las complicaciones.🔹 Navegación y robótica: Tecnologías que optimizan la precisión y seguridad en procedimientos complejos.🔹 Biomateriales y nuevas generaciones de implantes: Dispositivos diseñados para mejorar la estabilidad y funcionalidad de la columna.🔹 Tratamiento de patologías complejas: Enfoques avanzados para deformidades\, fracturas\, inestabilidad y enfermedades degenerativas. \nUn evento diseñado para transformar la práctica quirúrgica\nMás allá de la teoría\, este congreso proporcionará acceso a casos clínicos\, experiencias reales y discusiones con especialistas\, brindando una visión integral de las mejores prácticas en cirugía de columna. La combinación de conocimientos clásicos con innovación tecnológica permitirá a los asistentes fortalecer su criterio quirúrgico y adoptar herramientas que optimicen los resultados en sus pacientes. \nLa cirugía de columna está evolucionando. No te quedes atrás y sé parte de esta transformación\n¡Te esperamos en el stand #9!
URL:https://biotechsa.com/2/event/cirugia-de-columna-vertebral-de-los-fundamentos-a-la-innovacion/
LOCATION:Holiday Inn Mérida
ATTACH;FMTTYPE=image/jpeg:https://biotechsa.com/2/wp-content/uploads/2025/02/FEMECOT-MERIDA.jpg
END:VEVENT
END:VCALENDAR