BEGIN:VCALENDAR
VERSION:2.0
PRODID:-//Biotechsa - ECPv6.15.18//NONSGML v1.0//EN
CALSCALE:GREGORIAN
METHOD:PUBLISH
X-WR-CALNAME:Biotechsa
X-ORIGINAL-URL:https://biotechsa.com/2
X-WR-CALDESC:Eventos para Biotechsa
REFRESH-INTERVAL;VALUE=DURATION:PT1H
X-Robots-Tag:noindex
X-PUBLISHED-TTL:PT1H
BEGIN:VTIMEZONE
TZID:UTC
BEGIN:STANDARD
TZOFFSETFROM:+0000
TZOFFSETTO:+0000
TZNAME:UTC
DTSTART:20240101T000000
END:STANDARD
END:VTIMEZONE
BEGIN:VEVENT
DTSTART;TZID=UTC:20250625T080000
DTEND;TZID=UTC:20250628T170000
DTSTAMP:20260424T013357
CREATED:20250227T054759Z
LAST-MODIFIED:20250227T054759Z
UID:9268-1750838400-1751130000@biotechsa.com
SUMMARY:AMECRA 2025
DESCRIPTION:El Congreso Nacional de la Asociación Mexicana de Cirujanos de Reconstrucción Articular y Artroscopía (AMECRA) 2025 es el evento clave para todos los profesionales dedicados a la reconstrucción articular y la artroscopía en México. \nAño tras año\, AMECRA reúne a los mejores especialistas nacionales e internacionales para compartir conocimientos\, explorar nuevas técnicas quirúrgicas y analizar los avances más innovadores en el campo de la ortopedia. \nLa importancia de AMECRA 2025\nEn un mundo donde la tecnología y la medicina avanzan rápidamente\, la formación continua es fundamental. Este congreso ofrece un espacio de alto nivel académico donde los asistentes podrán: \n🔹 Aprender de expertos en cirugía reconstructiva y artroscopía con ponencias y talleres especializados.🔹 Conocer innovaciones tecnológicas en prótesis\, biomateriales y procedimientos mínimamente invasivos.🔹 Participar en sesiones interactivas para mejorar sus habilidades quirúrgicas.🔹 Ampliar su red de contactos con profesionales de todo el país y el extranjero. \nEncuéntranos en el stand #58\nTe invitamos a visitarnos en el stand #58\, donde estaremos presentando nuestras soluciones más innovadoras en reconstrucción articular y artroscopía. Además\, podrás acceder a demostraciones en vivo\, asesoría especializada y material exclusivo que te mantendrá al día con las tendencias más recientes en ortopedia. \nNo te pierdas la oportunidad de interactuar con nuestros expertos y descubrir herramientas que pueden hacer la diferencia en tu práctica. \n📅 Fecha: 25 al 28 de junio📍 Lugar: Sede oficial de AMECRO 2025🔎 Ubicación: Stand #58 \nTe esperamos para compartir conocimiento\, innovación y muchas sorpresas más. ¡Nos vemos en AMECRO 2025!
URL:https://biotechsa.com/2/event/amecra-2025/
LOCATION:Hotel Palacio Mundo Imperial Acapulco\, Plan de Los Amates\, Blvrd Barra Vieja 3\, Acapulco\, Guerrero\, 39890\, Mexico
ATTACH;FMTTYPE=image/jpeg:https://biotechsa.com/2/wp-content/uploads/2025/02/AMECRA-ACAPULCO.jpg
END:VEVENT
END:VCALENDAR